BEGIN:VCALENDAR
VERSION:2.0
PRODID:-//Laurie Blomer - ECPv6.15.13//NONSGML v1.0//EN
CALSCALE:GREGORIAN
METHOD:PUBLISH
X-ORIGINAL-URL:https://laurieblomer.com
X-WR-CALDESC:Events for Laurie Blomer
REFRESH-INTERVAL;VALUE=DURATION:PT1H
X-Robots-Tag:noindex
X-PUBLISHED-TTL:PT1H
BEGIN:VTIMEZONE
TZID:UTC
BEGIN:STANDARD
TZOFFSETFROM:+0000
TZOFFSETTO:+0000
TZNAME:UTC
DTSTART:20250101T000000
END:STANDARD
END:VTIMEZONE
BEGIN:VEVENT
DTSTART;TZID=UTC:20260301T110000
DTEND;TZID=UTC:20260301T130000
DTSTAMP:20260419T182003
CREATED:20220908T154713Z
LAST-MODIFIED:20260206T130903Z
UID:4181-1772362800-1772370000@laurieblomer.com
SUMMARY:Message Circle: Guidance from Your Spirit Guides
DESCRIPTION:[vc_row][vc_column][vc_column_text css=””] \nIn this unique Message Circle I’ll be sharing messages from your Spirit Guides (Guardian Angels and others).\n\n\n\n\nCome prepared with 2-3 questions for which you’d like to receive guidance. Some examples: \n\n\nRequest insight into a situation\, relationship\, career\, or an important decision\nInquire about your past lives\nLearn more about your life purpose and objectives for this lifetime\nFind out who your personal Spirit Guides are\n\n\n\nAs you prepare your questions\, keep in mind that your Spirit Guides honor your free will and choices as sacred to you. However\, these divine beings can provide insight\, guidance\, feedback\, and support to help you make more soul- honoring life decisions. \nPlease note that I will not be taking questions regarding medical conditions. \nSeating is limited to 8 participants. \nClick here to register for this event! \n\n\n\n\n\n[/vc_column_text][/vc_column][/vc_row]
URL:https://laurieblomer.com/event/message-circle-spirit-guides/
LOCATION:Zoom
END:VEVENT
BEGIN:VEVENT
DTSTART;TZID=UTC:20260328T100000
DTEND;TZID=UTC:20260328T123000
DTSTAMP:20260419T182003
CREATED:20250723T152129Z
LAST-MODIFIED:20260121T132713Z
UID:4691-1774692000-1774701000@laurieblomer.com
SUMMARY:Workshop: Working with Pendulums
DESCRIPTION:This 2.5- hour workshop will teach you how to work with a pendulum\, an ancient “dowsing” tool used for seeking insights and direction. \nYou’ll receive an amethyst pendulum to take home! \nYou’ll learn \n* The history of using pendulums for divination\n* How to energetically “connect” with yours and interpret its movement\, and\n* Several practical applications for using pendulums in your daily living \n  \nClick here to register
URL:https://laurieblomer.com/event/workshop-working-with-pendulums/
LOCATION:Laurie’s Office\, 1669 West Doe Run Rd.\, Kennett Square\, PA\, 19348\, United States
CATEGORIES:Workshops
END:VEVENT
END:VCALENDAR