BEGIN:VCALENDAR
VERSION:2.0
PRODID:-//Laurie Blomer - ECPv6.15.13//NONSGML v1.0//EN
CALSCALE:GREGORIAN
METHOD:PUBLISH
X-WR-CALNAME:Laurie Blomer
X-ORIGINAL-URL:https://laurieblomer.com
X-WR-CALDESC:Events for Laurie Blomer
REFRESH-INTERVAL;VALUE=DURATION:PT1H
X-Robots-Tag:noindex
X-PUBLISHED-TTL:PT1H
BEGIN:VTIMEZONE
TZID:UTC
BEGIN:STANDARD
TZOFFSETFROM:+0000
TZOFFSETTO:+0000
TZNAME:UTC
DTSTART:20240101T000000
END:STANDARD
END:VTIMEZONE
BEGIN:VEVENT
DTSTART;TZID=UTC:20251128T080000
DTEND;TZID=UTC:20251219T170000
DTSTAMP:20260419T232738
CREATED:20251128T164830Z
LAST-MODIFIED:20251128T164830Z
UID:4739-1764316800-1766163600@laurieblomer.com
SUMMARY:Annual Gift Certificate Sale through 12/19/2025!
DESCRIPTION:It’s that time of year! Through December 19th I’m offering a 20% discount on my gift certificates for psychic readings: \n\n60- minutes: $140 (normally $175)\n30- minutes: $70 (normally $90)\n\nThey’re printable and\, as always\, there’s no expiration date. Gift a loved one a psychic reading and buy one for your future use! \nClick here to purchase your gift certificates (Scroll down to the bottom – you’ll see them there!)
URL:https://laurieblomer.com/event/annual-gift-certificate-sale-through-12-19-2025/
CATEGORIES:Events
END:VEVENT
END:VCALENDAR