BEGIN:VCALENDAR
VERSION:2.0
PRODID:-//Laurie Blomer - ECPv6.15.13//NONSGML v1.0//EN
CALSCALE:GREGORIAN
METHOD:PUBLISH
X-WR-CALNAME:Laurie Blomer
X-ORIGINAL-URL:https://laurieblomer.com
X-WR-CALDESC:Events for Laurie Blomer
REFRESH-INTERVAL;VALUE=DURATION:PT1H
X-Robots-Tag:noindex
X-PUBLISHED-TTL:PT1H
BEGIN:VTIMEZONE
TZID:UTC
BEGIN:STANDARD
TZOFFSETFROM:+0000
TZOFFSETTO:+0000
TZNAME:UTC
DTSTART:20240101T000000
END:STANDARD
END:VTIMEZONE
BEGIN:VEVENT
DTSTART;TZID=UTC:20251004T090000
DTEND;TZID=UTC:20251004T120000
DTSTAMP:20260421T110025
CREATED:20250729T154418Z
LAST-MODIFIED:20250729T165622Z
UID:4694-1759568400-1759579200@laurieblomer.com
SUMMARY:Workshop: Connecting with Your Intuition\, the Voice of your Soul
DESCRIPTION:Your intuition is the eternal part of you that knows what you’re trying to accomplish in this lifetime. As your inner guidance system\, it signals what is right and wrong for you and how to best support your well- being\, accomplish your goals\, and cultivate healthy relationships. \nWith connecting to your intuition as a daily practice\, you’ll find you have greater clarity\, better ability to establish priorities\, and more confidence in your decisions. \nThis workshop will \n\nHelp you recognize how you receive intuitive cues\, and\nProvide you with easy techniques for instantly connecting with your intuition\n\n  \nClick here to register! \nThis workshop will be held at my office in Kennett Square\, PA. For the Zoom offering of this class\, click here. \n 
URL:https://laurieblomer.com/event/workshop-connecting-with-your-intuition-the-voice-of-your-soul/
LOCATION:Laurie’s Office\, 1669 West Doe Run Rd.\, Kennett Square\, PA\, 19348\, United States
END:VEVENT
END:VCALENDAR