BEGIN:VCALENDAR
VERSION:2.0
PRODID:-//Laurie Blomer - ECPv6.15.13//NONSGML v1.0//EN
CALSCALE:GREGORIAN
METHOD:PUBLISH
X-WR-CALNAME:Laurie Blomer
X-ORIGINAL-URL:https://laurieblomer.com
X-WR-CALDESC:Events for Laurie Blomer
REFRESH-INTERVAL;VALUE=DURATION:PT1H
X-Robots-Tag:noindex
X-PUBLISHED-TTL:PT1H
BEGIN:VTIMEZONE
TZID:UTC
BEGIN:STANDARD
TZOFFSETFROM:+0000
TZOFFSETTO:+0000
TZNAME:UTC
DTSTART:20230101T000000
END:STANDARD
END:VTIMEZONE
BEGIN:VEVENT
DTSTART;TZID=UTC:20240920T080000
DTEND;TZID=UTC:20241130T170000
DTSTAMP:20260421T123009
CREATED:20240919T153019Z
LAST-MODIFIED:20240920T183543Z
UID:4608-1726819200-1732986000@laurieblomer.com
SUMMARY:2024 "Fall Forecast" Psychic Readings
DESCRIPTION:In Numerology\, 2024 is an 8 year\, a time when the universe supports material success and accomplishment\, facilitating manifestation of our goals! \nIs there something you’d like to start\, continue or accomplish for 2024? Would you like a line of sight into the potential for achieving your goals for the remainder of the year?  Your Fall Forecast reading will focus specifically on those objectives! \nIn these unique psychic readings I’ll also be using Numerology\, such as looking at your Life Path and Personal Year Numbers\, for additional context. \nClick here and scroll down to “Special Offering” to schedule your 30 or 60 minute Fall Forecast reading at my office or via Zoom! \nNote: For all other types of psychic readings (e.g.\, animal communication) click here and use the “Psychic Readings” options on my scheduling site\, instead.
URL:https://laurieblomer.com/event/2024-fall-forecast-psychic-readings/
CATEGORIES:Events
END:VEVENT
BEGIN:VEVENT
DTSTART;TZID=UTC:20241028T180000
DTEND;TZID=UTC:20241028T200000
DTSTAMP:20260421T123009
CREATED:20230425T211323Z
LAST-MODIFIED:20241004T173726Z
UID:4399-1730138400-1730145600@laurieblomer.com
SUMMARY:Tarot Card Readings at Victory Taproom in Kennett Square\, PA!
DESCRIPTION:Come out for a delicious dinner\, some award winning beer (or non- alcoholic beverage!)\, and a 10 minute Tarot card reading! \nWhat can we cover in just 10 minutes? Plenty! \n\nGet insight into a situation\, decision\, or relationship\nFind out about one of your past lives\nLearn who your Spirit Guides are\nDiscover your soul’s purpose in this lifetime\n\nCome prepared to ask your question and I’ll help you get instant insight! \nThese are timed sessions so advance registration and payment are required. \nClick here to register!
URL:https://laurieblomer.com/event/tarot-card-readings-victory/
LOCATION:Victory Taproom\, 650 West Cypress Street\, Kennett Square\, PA\, 19348\, United States
CATEGORIES:Events
END:VEVENT
END:VCALENDAR