BEGIN:VCALENDAR
VERSION:2.0
PRODID:-//Laurie Blomer - ECPv6.15.13//NONSGML v1.0//EN
CALSCALE:GREGORIAN
METHOD:PUBLISH
X-WR-CALNAME:Laurie Blomer
X-ORIGINAL-URL:https://laurieblomer.com
X-WR-CALDESC:Events for Laurie Blomer
REFRESH-INTERVAL;VALUE=DURATION:PT1H
X-Robots-Tag:noindex
X-PUBLISHED-TTL:PT1H
BEGIN:VTIMEZONE
TZID:UTC
BEGIN:STANDARD
TZOFFSETFROM:+0000
TZOFFSETTO:+0000
TZNAME:UTC
DTSTART:20240101T000000
END:STANDARD
END:VTIMEZONE
BEGIN:VEVENT
DTSTART;TZID=UTC:20250719T100000
DTEND;TZID=UTC:20250719T170000
DTSTAMP:20260423T031344
CREATED:20240314T162115Z
LAST-MODIFIED:20250509T142331Z
UID:4550-1752919200-1752944400@laurieblomer.com
SUMMARY:Workshop: Introduction to Tarot Card Reading
DESCRIPTION:Come learn how to work with Tarot cards! You’ll gain a solid understanding of Tarot structure and symbolism and a firm grounding in what card reading is all about. You’ll learn how to work with Tarot cards as wonderful tools for accessing your intuition\, creativity\, problem- solving skills\, and inspiration. \nYou’ll receive a Rider-Waite Tarot card deck as part of your registration. \nYou’ll learn\n\nHistory and lore of Tarot and card “reading”\nThe traditional structure of Tarot: the Major Arcana & Minor Arcana\nTraditional Tarot card symbolism –images\, colors\, numbers & words\nHow to read Tarot cards quickly and easily\nTarot card spreads for a variety of inquiries\n\n\nThis class is very hands- on! You’ll receive detailed support materials\, practice giving yourself readings\, and have fun. Register with a friend! \nThis class will be helpful whether you’re already working oracle cards and want to learn Tarot or have no experience working with cards and want to learn how. \nSeating is limited to 8 to ensure each participant gets personalized support. \nFee is $100; advance registration and payment are required. \nClick here to register!
URL:https://laurieblomer.com/event/workshop-introduction-to-tarot-card-reading/
LOCATION:Laurie’s Office\, 1669 West Doe Run Rd.\, Kennett Square\, PA\, 19348\, United States
CATEGORIES:Workshops
END:VEVENT
END:VCALENDAR