BEGIN:VCALENDAR
VERSION:2.0
PRODID:-//Laurie Blomer - ECPv6.15.13//NONSGML v1.0//EN
CALSCALE:GREGORIAN
METHOD:PUBLISH
X-WR-CALNAME:Laurie Blomer
X-ORIGINAL-URL:https://laurieblomer.com
X-WR-CALDESC:Events for Laurie Blomer
REFRESH-INTERVAL;VALUE=DURATION:PT1H
X-Robots-Tag:noindex
X-PUBLISHED-TTL:PT1H
BEGIN:VTIMEZONE
TZID:UTC
BEGIN:STANDARD
TZOFFSETFROM:+0000
TZOFFSETTO:+0000
TZNAME:UTC
DTSTART:20240101T000000
END:STANDARD
END:VTIMEZONE
BEGIN:VEVENT
DTSTART;TZID=UTC:20250301T100000
DTEND;TZID=UTC:20250301T123000
DTSTAMP:20260425T113432
CREATED:20200411T193212Z
LAST-MODIFIED:20250829T175206Z
UID:1787-1740823200-1740832200@laurieblomer.com
SUMMARY:Workshop: How to Oracle Read Cards
DESCRIPTION:[vc_row][vc_column][vc_column_text]This 3- hour workshop will help you get started using card reading to tap into your intuition  — your own divine\, inner wisdom — so you can make better choices and more informed decisions for your life! Card reading can also be used for accessing creativity and inspiration\, and even for solving problems. As part of your registration you’ll receive an oracle card deck to take home with you!  \nWe’ll cover the essentials of working with cards\, such as \n\nUnderstanding and interpreting card meanings\, quickly and easily\nLearning versatile card spreads\nPracticing giving yourself carding readings\n\nClass size is limited to 8 so I can give each participant will get personalized attention and support. \nClick here to register![/vc_column_text][/vc_column][/vc_row]
URL:https://laurieblomer.com/event/how-to-read-oracle-cards/
LOCATION:Laurie’s Office\, 1669 West Doe Run Rd.\, Kennett Square\, PA\, 19348\, United States
CATEGORIES:Oracle Cards,Workshops
END:VEVENT
END:VCALENDAR