BEGIN:VCALENDAR
VERSION:2.0
PRODID:-//Laurie Blomer - ECPv6.15.13//NONSGML v1.0//EN
CALSCALE:GREGORIAN
METHOD:PUBLISH
X-ORIGINAL-URL:https://laurieblomer.com
X-WR-CALDESC:Events for Laurie Blomer
REFRESH-INTERVAL;VALUE=DURATION:PT1H
X-Robots-Tag:noindex
X-PUBLISHED-TTL:PT1H
BEGIN:VTIMEZONE
TZID:UTC
BEGIN:STANDARD
TZOFFSETFROM:+0000
TZOFFSETTO:+0000
TZNAME:UTC
DTSTART:20240101T000000
END:STANDARD
END:VTIMEZONE
BEGIN:VEVENT
DTSTART;TZID=UTC:20250928T093000
DTEND;TZID=UTC:20250928T120000
DTSTAMP:20260422T222107
CREATED:20220303T153025Z
LAST-MODIFIED:20250828T190025Z
UID:3117-1759051800-1759060800@laurieblomer.com
SUMMARY:Workshop: Reading "Reversed" Cards
DESCRIPTION:[vc_row][vc_column][vc_column_text]This 2.5 hour oracle & Tarot card reading class focuses on how to work with “reversed\,” or upside- down cards\, for adding a new dimension to your readings. \nWorking with your favorite oracle or Tarot deck\, you’ll practice building reversed cards into your readings and learn several ways for interpreting their symbolism and significance. \nWe’ll explore \n\nHow reversed cards offer additional\, and more nuanced\, meanings to your card readings\nSeveral ways to interpret their symbolism and significance\nMethods for building reversed cards into your readings\n\nThis class is designed for participants who already have some basic knowledge and experience working with Tarot or Oracle cards prior to attending this workshop. \nClick here to register for this workshop.[/vc_column_text][/vc_column][/vc_row][vc_row][vc_column][/vc_column][/vc_row]
URL:https://laurieblomer.com/event/workshop-working-with-reversed-upside-down-oracle-tarot-cards/
LOCATION:Laurie’s Office\, 1669 West Doe Run Rd.\, Kennett Square\, PA\, 19348\, United States
CATEGORIES:Oracle Cards,Workshops
END:VEVENT
END:VCALENDAR